BEGIN:VCALENDAR
VERSION:2.0
PRODID:-//Fischereiverein Dellmensingen e.V. - ECPv6.15.20//NONSGML v1.0//EN
CALSCALE:GREGORIAN
METHOD:PUBLISH
X-ORIGINAL-URL:https://fv-dellmensingen.de
X-WR-CALDESC:Veranstaltungen für Fischereiverein Dellmensingen e.V.
REFRESH-INTERVAL;VALUE=DURATION:PT1H
X-Robots-Tag:noindex
X-PUBLISHED-TTL:PT1H
BEGIN:VTIMEZONE
TZID:Europe/Berlin
BEGIN:DAYLIGHT
TZOFFSETFROM:+0100
TZOFFSETTO:+0200
TZNAME:CEST
DTSTART:20240331T010000
END:DAYLIGHT
BEGIN:STANDARD
TZOFFSETFROM:+0200
TZOFFSETTO:+0100
TZNAME:CET
DTSTART:20241027T010000
END:STANDARD
BEGIN:DAYLIGHT
TZOFFSETFROM:+0100
TZOFFSETTO:+0200
TZNAME:CEST
DTSTART:20250330T010000
END:DAYLIGHT
BEGIN:STANDARD
TZOFFSETFROM:+0200
TZOFFSETTO:+0100
TZNAME:CET
DTSTART:20251026T010000
END:STANDARD
BEGIN:DAYLIGHT
TZOFFSETFROM:+0100
TZOFFSETTO:+0200
TZNAME:CEST
DTSTART:20260329T010000
END:DAYLIGHT
BEGIN:STANDARD
TZOFFSETFROM:+0200
TZOFFSETTO:+0100
TZNAME:CET
DTSTART:20261025T010000
END:STANDARD
END:VTIMEZONE
BEGIN:VEVENT
DTSTART;TZID=Europe/Berlin:20250311T183000
DTEND;TZID=Europe/Berlin:20250311T193000
DTSTAMP:20260421T145650
CREATED:20241217T065411Z
LAST-MODIFIED:20241217T065411Z
UID:1293-1741717800-1741721400@fv-dellmensingen.de
SUMMARY:Fischerkurs
DESCRIPTION:Einführung\, Lehrgangsunterlagen
URL:https://fv-dellmensingen.de/event/fischerkurs/
LOCATION:Fischerheim Dellmensingen\, Werdensteinstraße 28\, Erbach\, Baden-Württemberg\, 89155\, Deutschland
CATEGORIES:Vorbereitungslehrgang
END:VEVENT
BEGIN:VEVENT
DTSTART;TZID=Europe/Berlin:20250314T193000
DTEND;TZID=Europe/Berlin:20250314T220000
DTSTAMP:20260421T145650
CREATED:20241126T102510Z
LAST-MODIFIED:20241126T102510Z
UID:1279-1741980600-1741989600@fv-dellmensingen.de
SUMMARY:Jahreshauptversammlung
DESCRIPTION:Jahreshauptversammlung Fischereiverein Dellmensingen e.V.
URL:https://fv-dellmensingen.de/event/jahreshauptversammlung-3/
LOCATION:Fischerheim Dellmensingen\, Werdensteinstraße 28\, Erbach\, Baden-Württemberg\, 89155\, Deutschland
CATEGORIES:Sitzung / Versammlung
ORGANIZER;CN="FV Dellmensingen e.V.":MAILTO:kontakt@fv-dellmensingen.de
END:VEVENT
BEGIN:VEVENT
DTSTART;TZID=Europe/Berlin:20250321T183000
DTEND;TZID=Europe/Berlin:20250321T210000
DTSTAMP:20260421T145650
CREATED:20241217T065520Z
LAST-MODIFIED:20241217T065520Z
UID:1295-1742581800-1742590800@fv-dellmensingen.de
SUMMARY:Fischerkurs
DESCRIPTION:Allgemeine Fischkunde
URL:https://fv-dellmensingen.de/event/fischerkurs-2/
LOCATION:Fischerheim Dellmensingen\, Werdensteinstraße 28\, Erbach\, Baden-Württemberg\, 89155\, Deutschland
CATEGORIES:Vorbereitungslehrgang
END:VEVENT
BEGIN:VEVENT
DTSTART;TZID=Europe/Berlin:20250322T080000
DTEND;TZID=Europe/Berlin:20250322T120000
DTSTAMP:20260421T145650
CREATED:20250319T131737Z
LAST-MODIFIED:20250319T131750Z
UID:1355-1742630400-1742644800@fv-dellmensingen.de
SUMMARY:Gewässerputzete
DESCRIPTION:Treffpunkt 08:00 Uhr am Fischerheim
URL:https://fv-dellmensingen.de/event/gewaesserputzete-4/
LOCATION:Fischerheim Dellmensingen\, Werdensteinstraße 28\, Erbach\, Baden-Württemberg\, 89155\, Deutschland
END:VEVENT
BEGIN:VEVENT
DTSTART;TZID=Europe/Berlin:20250322T083000
DTEND;TZID=Europe/Berlin:20250322T173000
DTSTAMP:20260421T145650
CREATED:20241217T065612Z
LAST-MODIFIED:20241217T070320Z
UID:1297-1742632200-1742664600@fv-dellmensingen.de
SUMMARY:Fischerkurs
DESCRIPTION:Allgemeine Fischkunde\nSpezielle Fischkunde\nGewässerökologie
URL:https://fv-dellmensingen.de/event/fischerkurs-3/
LOCATION:Fischerheim Dellmensingen\, Werdensteinstraße 28\, Erbach\, Baden-Württemberg\, 89155\, Deutschland
CATEGORIES:Vorbereitungslehrgang
END:VEVENT
BEGIN:VEVENT
DTSTART;TZID=Europe/Berlin:20250323T083000
DTEND;TZID=Europe/Berlin:20250323T163000
DTSTAMP:20260421T145650
CREATED:20241217T065700Z
LAST-MODIFIED:20241217T065700Z
UID:1299-1742718600-1742747400@fv-dellmensingen.de
SUMMARY:Fischerkurs
DESCRIPTION:Gewässerökologie\nFischkrankheiten
URL:https://fv-dellmensingen.de/event/fischerkurs-4/
LOCATION:Fischerheim Dellmensingen\, Werdensteinstraße 28\, Erbach\, Baden-Württemberg\, 89155\, Deutschland
CATEGORIES:Vorbereitungslehrgang
END:VEVENT
BEGIN:VEVENT
DTSTART;TZID=Europe/Berlin:20250328T180000
DTEND;TZID=Europe/Berlin:20250328T213000
DTSTAMP:20260421T145650
CREATED:20241217T065751Z
LAST-MODIFIED:20241217T065751Z
UID:1301-1743184800-1743197400@fv-dellmensingen.de
SUMMARY:Fischerkurs
DESCRIPTION:Gerätekunde Theorie
URL:https://fv-dellmensingen.de/event/fischerkurs-5/
LOCATION:Fischerheim Dellmensingen\, Werdensteinstraße 28\, Erbach\, Baden-Württemberg\, 89155\, Deutschland
CATEGORIES:Vorbereitungslehrgang
END:VEVENT
BEGIN:VEVENT
DTSTART;TZID=Europe/Berlin:20250329T083000
DTEND;TZID=Europe/Berlin:20250329T163000
DTSTAMP:20260421T145650
CREATED:20241217T065930Z
LAST-MODIFIED:20241217T070003Z
UID:1303-1743237000-1743265800@fv-dellmensingen.de
SUMMARY:Fischerkurs
DESCRIPTION:Gerätekunde Praxis\nBehandeln gefangener Fische\nVersorgen u. Verwerten
URL:https://fv-dellmensingen.de/event/fischerkurs-6/
LOCATION:Fischerheim Dellmensingen\, Werdensteinstraße 28\, Erbach\, Baden-Württemberg\, 89155\, Deutschland
CATEGORIES:Vorbereitungslehrgang
END:VEVENT
BEGIN:VEVENT
DTSTART;TZID=Europe/Berlin:20250330T083000
DTEND;TZID=Europe/Berlin:20250330T150000
DTSTAMP:20260421T145650
CREATED:20241217T070110Z
LAST-MODIFIED:20241217T070110Z
UID:1305-1743323400-1743346800@fv-dellmensingen.de
SUMMARY:Fischerkurs
DESCRIPTION:Gesetzeskunde\nAusgabe der Stundennachweise\n​Beantworten anstehender Fragen
URL:https://fv-dellmensingen.de/event/fischerkurs-7/
LOCATION:Fischerheim Dellmensingen\, Werdensteinstraße 28\, Erbach\, Baden-Württemberg\, 89155\, Deutschland
CATEGORIES:Vorbereitungslehrgang
END:VEVENT
END:VCALENDAR