BEGIN:VCALENDAR
VERSION:2.0
PRODID:-//Fischereiverein Dellmensingen e.V. - ECPv6.15.20//NONSGML v1.0//EN
CALSCALE:GREGORIAN
METHOD:PUBLISH
X-ORIGINAL-URL:https://fv-dellmensingen.de
X-WR-CALDESC:Veranstaltungen für Fischereiverein Dellmensingen e.V.
REFRESH-INTERVAL;VALUE=DURATION:PT1H
X-Robots-Tag:noindex
X-PUBLISHED-TTL:PT1H
BEGIN:VTIMEZONE
TZID:Europe/Berlin
BEGIN:DAYLIGHT
TZOFFSETFROM:+0100
TZOFFSETTO:+0200
TZNAME:CEST
DTSTART:20230326T010000
END:DAYLIGHT
BEGIN:STANDARD
TZOFFSETFROM:+0200
TZOFFSETTO:+0100
TZNAME:CET
DTSTART:20231029T010000
END:STANDARD
BEGIN:DAYLIGHT
TZOFFSETFROM:+0100
TZOFFSETTO:+0200
TZNAME:CEST
DTSTART:20240331T010000
END:DAYLIGHT
BEGIN:STANDARD
TZOFFSETFROM:+0200
TZOFFSETTO:+0100
TZNAME:CET
DTSTART:20241027T010000
END:STANDARD
BEGIN:DAYLIGHT
TZOFFSETFROM:+0100
TZOFFSETTO:+0200
TZNAME:CEST
DTSTART:20250330T010000
END:DAYLIGHT
BEGIN:STANDARD
TZOFFSETFROM:+0200
TZOFFSETTO:+0100
TZNAME:CET
DTSTART:20251026T010000
END:STANDARD
END:VTIMEZONE
BEGIN:VEVENT
DTSTART;TZID=Europe/Berlin:20240712T193000
DTEND;TZID=Europe/Berlin:20240712T203000
DTSTAMP:20260422T030714
CREATED:20240515T133625Z
LAST-MODIFIED:20240703T104309Z
UID:1131-1720812600-1720816200@fv-dellmensingen.de
SUMMARY:Kartenausgabe Kameradschaftsfischen
DESCRIPTION:
URL:https://fv-dellmensingen.de/event/kartenausgabe-kammeradschaftsfischen/
LOCATION:Fischerheim Dellmensingen\, Werdensteinstraße 28\, Erbach\, Baden-Württemberg\, 89155\, Deutschland
END:VEVENT
BEGIN:VEVENT
DTSTART;TZID=Europe/Berlin:20240714T050000
DTEND;TZID=Europe/Berlin:20240714T110000
DTSTAMP:20260422T030714
CREATED:20240515T133751Z
LAST-MODIFIED:20240703T104226Z
UID:1133-1720933200-1720954800@fv-dellmensingen.de
SUMMARY:Kameradschaftsfischen
DESCRIPTION:Kammeradschaftsfischen – anschließend Wiegen und gemütliches Beisammensein am Fischerheim
URL:https://fv-dellmensingen.de/event/kammeradschaftsfischen/
END:VEVENT
BEGIN:VEVENT
DTSTART;TZID=Europe/Berlin:20240725T160000
DTEND;TZID=Europe/Berlin:20240725T190000
DTSTAMP:20260422T030714
CREATED:20240515T133942Z
LAST-MODIFIED:20240515T133942Z
UID:1137-1721923200-1721934000@fv-dellmensingen.de
SUMMARY:Zeltaufbau Fischerfest
DESCRIPTION:
URL:https://fv-dellmensingen.de/event/zeltaufbau-fischerfest-2/
END:VEVENT
BEGIN:VEVENT
DTSTART;TZID=Europe/Berlin:20240727T080000
DTEND;TZID=Europe/Berlin:20240727T110000
DTSTAMP:20260422T030714
CREATED:20240515T134029Z
LAST-MODIFIED:20240515T134029Z
UID:1139-1722067200-1722078000@fv-dellmensingen.de
SUMMARY:Zelt einrichten Fischerfest
DESCRIPTION:
URL:https://fv-dellmensingen.de/event/zelt-einrichten-fischerfest/
END:VEVENT
BEGIN:VEVENT
DTSTART;VALUE=DATE:20240728
DTEND;VALUE=DATE:20240729
DTSTAMP:20260422T030714
CREATED:20240515T134108Z
LAST-MODIFIED:20240515T134227Z
UID:1141-1722124800-1722211199@fv-dellmensingen.de
SUMMARY:Fischerfest
DESCRIPTION:
URL:https://fv-dellmensingen.de/event/fischerfest-3/
END:VEVENT
END:VCALENDAR