BEGIN:VCALENDAR
VERSION:2.0
PRODID:-//Fischereiverein Dellmensingen e.V. - ECPv6.15.20//NONSGML v1.0//EN
CALSCALE:GREGORIAN
METHOD:PUBLISH
X-ORIGINAL-URL:https://fv-dellmensingen.de
X-WR-CALDESC:Veranstaltungen für Fischereiverein Dellmensingen e.V.
REFRESH-INTERVAL;VALUE=DURATION:PT1H
X-Robots-Tag:noindex
X-PUBLISHED-TTL:PT1H
BEGIN:VTIMEZONE
TZID:Europe/Berlin
BEGIN:DAYLIGHT
TZOFFSETFROM:+0100
TZOFFSETTO:+0200
TZNAME:CEST
DTSTART:20230326T010000
END:DAYLIGHT
BEGIN:STANDARD
TZOFFSETFROM:+0200
TZOFFSETTO:+0100
TZNAME:CET
DTSTART:20231029T010000
END:STANDARD
BEGIN:DAYLIGHT
TZOFFSETFROM:+0100
TZOFFSETTO:+0200
TZNAME:CEST
DTSTART:20240331T010000
END:DAYLIGHT
BEGIN:STANDARD
TZOFFSETFROM:+0200
TZOFFSETTO:+0100
TZNAME:CET
DTSTART:20241027T010000
END:STANDARD
BEGIN:DAYLIGHT
TZOFFSETFROM:+0100
TZOFFSETTO:+0200
TZNAME:CEST
DTSTART:20250330T010000
END:DAYLIGHT
BEGIN:STANDARD
TZOFFSETFROM:+0200
TZOFFSETTO:+0100
TZNAME:CET
DTSTART:20251026T010000
END:STANDARD
END:VTIMEZONE
BEGIN:VEVENT
DTSTART;TZID=Europe/Berlin:20240126T190000
DTEND;TZID=Europe/Berlin:20240126T210000
DTSTAMP:20260422T132514
CREATED:20231121T093906Z
LAST-MODIFIED:20231121T093926Z
UID:976-1706295600-1706302800@fv-dellmensingen.de
SUMMARY:Ausgabe Jahreserlaubnisscheine
DESCRIPTION:
URL:https://fv-dellmensingen.de/event/ausgabe-jahreserlaubnisscheine-4/
LOCATION:Fischerheim Dellmensingen\, Werdensteinstraße 28\, Erbach\, Baden-Württemberg\, 89155\, Deutschland
ORGANIZER;CN="FV Dellmensingen e.V.":MAILTO:kontakt@fv-dellmensingen.de
END:VEVENT
BEGIN:VEVENT
DTSTART;TZID=Europe/Berlin:20240127T080000
DTEND;TZID=Europe/Berlin:20240127T080000
DTSTAMP:20260422T132514
CREATED:20240118T093124Z
LAST-MODIFIED:20240118T093536Z
UID:1032-1706342400-1706342400@fv-dellmensingen.de
SUMMARY:Arbeitseinsatz
DESCRIPTION:Treffpunkt Fischerheim 08:00 Uhr
URL:https://fv-dellmensingen.de/event/arbeitseinsatz-4/
LOCATION:Fischerheim Dellmensingen\, Werdensteinstraße 28\, Erbach\, Baden-Württemberg\, 89155\, Deutschland
CATEGORIES:Arbeitseinsatz
END:VEVENT
END:VCALENDAR