BEGIN:VCALENDAR
VERSION:2.0
PRODID:-//Fischereiverein Dellmensingen e.V. - ECPv6.15.20//NONSGML v1.0//EN
CALSCALE:GREGORIAN
METHOD:PUBLISH
X-WR-CALNAME:Fischereiverein Dellmensingen e.V.
X-ORIGINAL-URL:https://fv-dellmensingen.de
X-WR-CALDESC:Veranstaltungen für Fischereiverein Dellmensingen e.V.
REFRESH-INTERVAL;VALUE=DURATION:PT1H
X-Robots-Tag:noindex
X-PUBLISHED-TTL:PT1H
BEGIN:VTIMEZONE
TZID:Europe/Berlin
BEGIN:DAYLIGHT
TZOFFSETFROM:+0100
TZOFFSETTO:+0200
TZNAME:CEST
DTSTART:20220327T010000
END:DAYLIGHT
BEGIN:STANDARD
TZOFFSETFROM:+0200
TZOFFSETTO:+0100
TZNAME:CET
DTSTART:20221030T010000
END:STANDARD
BEGIN:DAYLIGHT
TZOFFSETFROM:+0100
TZOFFSETTO:+0200
TZNAME:CEST
DTSTART:20230326T010000
END:DAYLIGHT
BEGIN:STANDARD
TZOFFSETFROM:+0200
TZOFFSETTO:+0100
TZNAME:CET
DTSTART:20231029T010000
END:STANDARD
BEGIN:DAYLIGHT
TZOFFSETFROM:+0100
TZOFFSETTO:+0200
TZNAME:CEST
DTSTART:20240331T010000
END:DAYLIGHT
BEGIN:STANDARD
TZOFFSETFROM:+0200
TZOFFSETTO:+0100
TZNAME:CET
DTSTART:20241027T010000
END:STANDARD
END:VTIMEZONE
BEGIN:VEVENT
DTSTART;TZID=Europe/Berlin:20231011T170000
DTEND;TZID=Europe/Berlin:20231011T180000
DTSTAMP:20260422T174725
CREATED:20230927T061811Z
LAST-MODIFIED:20230927T061811Z
UID:954-1697043600-1697047200@fv-dellmensingen.de
SUMMARY:Räuchertag für Mitglieder - Abgabe
DESCRIPTION:Räuchertag für Mitglieder – Abgabe der ausgenommenen Fische
URL:https://fv-dellmensingen.de/event/raeuchertag-fuer-mitglieder-abgabe/
LOCATION:Fischerheim Dellmensingen\, Werdensteinstraße 28\, Erbach\, Baden-Württemberg\, 89155\, Deutschland
END:VEVENT
BEGIN:VEVENT
DTSTART;TZID=Europe/Berlin:20231013T170000
DTEND;TZID=Europe/Berlin:20231013T180000
DTSTAMP:20260422T174725
CREATED:20230927T061851Z
LAST-MODIFIED:20230927T061903Z
UID:956-1697216400-1697220000@fv-dellmensingen.de
SUMMARY:Räuchertag für Mitglieder - Abholung
DESCRIPTION:Räuchertag für Mitglieder – Abholung der geräucherten Fische
URL:https://fv-dellmensingen.de/event/raeuchertag-fuer-mitglieder-abholung/
LOCATION:Fischerheim Dellmensingen\, Werdensteinstraße 28\, Erbach\, Baden-Württemberg\, 89155\, Deutschland
END:VEVENT
BEGIN:VEVENT
DTSTART;TZID=Europe/Berlin:20231013T180000
DTEND;TZID=Europe/Berlin:20231013T213000
DTSTAMP:20260422T174725
CREATED:20230802T064023Z
LAST-MODIFIED:20230802T064023Z
UID:934-1697220000-1697232600@fv-dellmensingen.de
SUMMARY:Allgemeine Fischkunde
DESCRIPTION:Fr.	13.10.23	18.00 – 21.30		3\,0 Std.	Allgemeine Fischkunde
URL:https://fv-dellmensingen.de/event/allgemeine-fischkunde/
LOCATION:Fischerheim Dellmensingen\, Werdensteinstraße 28\, Erbach\, Baden-Württemberg\, 89155\, Deutschland
CATEGORIES:Vorbereitungslehrgang
ORGANIZER;CN="FV Dellmensingen e.V.":MAILTO:kontakt@fv-dellmensingen.de
END:VEVENT
BEGIN:VEVENT
DTSTART;TZID=Europe/Berlin:20231014T083000
DTEND;TZID=Europe/Berlin:20231014T174500
DTSTAMP:20260422T174725
CREATED:20230802T064125Z
LAST-MODIFIED:20230802T064125Z
UID:936-1697272200-1697305500@fv-dellmensingen.de
SUMMARY:Fischkunde\, Gewässerökologie
DESCRIPTION:Sa.	14.10.23	08.30 – 12.00		1\,0 Std.	Allgemeine Fischkunde\n						2\,0 Std.	Spezielle Fischkunde\n			Mittagspause\n			13.00 – 17.45		2\,0 Std.	Spezielle Fischkunde\n						2\,0 Std.	Gewässerökologie
URL:https://fv-dellmensingen.de/event/fischkunde-gewaesseroekologie/
LOCATION:Fischerheim Dellmensingen\, Werdensteinstraße 28\, Erbach\, Baden-Württemberg\, 89155\, Deutschland
CATEGORIES:Vorbereitungslehrgang
ORGANIZER;CN="FV Dellmensingen e.V.":MAILTO:kontakt@fv-dellmensingen.de
END:VEVENT
BEGIN:VEVENT
DTSTART;TZID=Europe/Berlin:20231015T083000
DTEND;TZID=Europe/Berlin:20231015T163000
DTSTAMP:20260422T174725
CREATED:20230802T064217Z
LAST-MODIFIED:20230802T064217Z
UID:938-1697358600-1697387400@fv-dellmensingen.de
SUMMARY:Gewässerökologie\, Fischkrankheiten
DESCRIPTION:So.	15.10.23	08.30 – 12.00		3\,0 Std.	Gewässerökologie\n			Mittagspause\n			13.00 – 16.30		2\,0 Std.	Gewässerökologie\n						1\,0 Std.	Gewässerökologie Fischkrankheiten
URL:https://fv-dellmensingen.de/event/gewaesseroekologie-fischkrankheiten/
LOCATION:Fischerheim Dellmensingen\, Werdensteinstraße 28\, Erbach\, Baden-Württemberg\, 89155\, Deutschland
CATEGORIES:Vorbereitungslehrgang
ORGANIZER;CN="FV Dellmensingen e.V.":MAILTO:kontakt@fv-dellmensingen.de
END:VEVENT
BEGIN:VEVENT
DTSTART;TZID=Europe/Berlin:20231027T180000
DTEND;TZID=Europe/Berlin:20231027T213000
DTSTAMP:20260422T174725
CREATED:20230802T064306Z
LAST-MODIFIED:20230802T064306Z
UID:940-1698429600-1698442200@fv-dellmensingen.de
SUMMARY:Gerätekunde Theorie
DESCRIPTION:Fr.	27.10.23	18.00 – 21.30		3\,0 Std.	Gerätekunde Theorie
URL:https://fv-dellmensingen.de/event/geraetekunde-theorie/
LOCATION:Fischerheim Dellmensingen\, Werdensteinstraße 28\, Erbach\, Baden-Württemberg\, 89155\, Deutschland
CATEGORIES:Vorbereitungslehrgang
ORGANIZER;CN="FV Dellmensingen e.V.":MAILTO:kontakt@fv-dellmensingen.de
END:VEVENT
BEGIN:VEVENT
DTSTART;TZID=Europe/Berlin:20231028T083000
DTEND;TZID=Europe/Berlin:20231028T163000
DTSTAMP:20260422T174725
CREATED:20230802T064809Z
LAST-MODIFIED:20230802T064809Z
UID:942-1698481800-1698510600@fv-dellmensingen.de
SUMMARY:Gerätekunde Praxis\, Versorgen und Verwerten
DESCRIPTION:Sa.	28.10.23           08.30 – 12.00        1\,0 Std.	Gerätekunde Praxis\n						2\,0 Std.        Behandeln gefangener Fische\,\n								Versorgen u. Verwerten\n			Mittagspause\n			13.00 – 16.30		3\,0 Std.	Gerätekunde Praxis
URL:https://fv-dellmensingen.de/event/geraetekunde-praxis-versorgen-und-verwerten/
LOCATION:Fischerheim Dellmensingen\, Werdensteinstraße 28\, Erbach\, Baden-Württemberg\, 89155\, Deutschland
CATEGORIES:Vorbereitungslehrgang
ORGANIZER;CN="FV Dellmensingen e.V.":MAILTO:kontakt@fv-dellmensingen.de
END:VEVENT
BEGIN:VEVENT
DTSTART;TZID=Europe/Berlin:20231029T083000
DTEND;TZID=Europe/Berlin:20231029T151500
DTSTAMP:20260422T174725
CREATED:20230802T064925Z
LAST-MODIFIED:20230802T064925Z
UID:944-1698568200-1698592500@fv-dellmensingen.de
SUMMARY:Gesetzeskunde
DESCRIPTION:So.	29.10.23	08.30 – 12.00		3\,0 Std.	Gesetzeskunde\n			Mittagspause\n			13.00 – 15.15		2\,0 Std.	Gesetzeskunde\, Ausgabe der Stundennachweise\n								Beantworten anstehender Fragen
URL:https://fv-dellmensingen.de/event/gesetzeskunde/
LOCATION:Fischerheim Dellmensingen\, Werdensteinstraße 28\, Erbach\, Baden-Württemberg\, 89155\, Deutschland
CATEGORIES:Vorbereitungslehrgang
ORGANIZER;CN="FV Dellmensingen e.V.":MAILTO:kontakt@fv-dellmensingen.de
END:VEVENT
END:VCALENDAR