BEGIN:VCALENDAR
VERSION:2.0
PRODID:-//Fischereiverein Dellmensingen e.V. - ECPv6.15.20//NONSGML v1.0//EN
CALSCALE:GREGORIAN
METHOD:PUBLISH
X-ORIGINAL-URL:https://fv-dellmensingen.de
X-WR-CALDESC:Veranstaltungen für Fischereiverein Dellmensingen e.V.
REFRESH-INTERVAL;VALUE=DURATION:PT1H
X-Robots-Tag:noindex
X-PUBLISHED-TTL:PT1H
BEGIN:VTIMEZONE
TZID:Europe/Berlin
BEGIN:DAYLIGHT
TZOFFSETFROM:+0100
TZOFFSETTO:+0200
TZNAME:CEST
DTSTART:20220327T010000
END:DAYLIGHT
BEGIN:STANDARD
TZOFFSETFROM:+0200
TZOFFSETTO:+0100
TZNAME:CET
DTSTART:20221030T010000
END:STANDARD
BEGIN:DAYLIGHT
TZOFFSETFROM:+0100
TZOFFSETTO:+0200
TZNAME:CEST
DTSTART:20230326T010000
END:DAYLIGHT
BEGIN:STANDARD
TZOFFSETFROM:+0200
TZOFFSETTO:+0100
TZNAME:CET
DTSTART:20231029T010000
END:STANDARD
BEGIN:DAYLIGHT
TZOFFSETFROM:+0100
TZOFFSETTO:+0200
TZNAME:CEST
DTSTART:20240331T010000
END:DAYLIGHT
BEGIN:STANDARD
TZOFFSETFROM:+0200
TZOFFSETTO:+0100
TZNAME:CET
DTSTART:20241027T010000
END:STANDARD
END:VTIMEZONE
BEGIN:VEVENT
DTSTART;VALUE=DATE:20230501
DTEND;VALUE=DATE:20230502
DTSTAMP:20260423T012251
CREATED:20230131T071056Z
LAST-MODIFIED:20230131T071056Z
UID:825-1682899200-1682985599@fv-dellmensingen.de
SUMMARY:Maifest
DESCRIPTION:
URL:https://fv-dellmensingen.de/event/maifest-2/
LOCATION:Fischerheim Dellmensingen\, Werdensteinstraße 28\, Erbach\, Baden-Württemberg\, 89155\, Deutschland
CATEGORIES:Arbeitseinsatz,Kameradschaft,öffentliche Veranstaltung
ORGANIZER;CN="FV Dellmensingen e.V.":MAILTO:kontakt@fv-dellmensingen.de
END:VEVENT
BEGIN:VEVENT
DTSTART;TZID=Europe/Berlin:20230501T060000
DTEND;TZID=Europe/Berlin:20230501T060000
DTSTAMP:20260423T012251
CREATED:20230131T071022Z
LAST-MODIFIED:20230131T071022Z
UID:823-1682920800-1682920800@fv-dellmensingen.de
SUMMARY:Anfischen
DESCRIPTION:06:00 Frühschoppen mit Weißwurstfrühstück
URL:https://fv-dellmensingen.de/event/anfischen-2/
LOCATION:Fischerheim Dellmensingen\, Werdensteinstraße 28\, Erbach\, Baden-Württemberg\, 89155\, Deutschland
CATEGORIES:öffentliche Veranstaltung
END:VEVENT
BEGIN:VEVENT
DTSTART;TZID=Europe/Berlin:20230501T080000
DTEND;TZID=Europe/Berlin:20230501T110000
DTSTAMP:20260423T012251
CREATED:20230131T071147Z
LAST-MODIFIED:20230131T071147Z
UID:827-1682928000-1682938800@fv-dellmensingen.de
SUMMARY:Zeltaufbau Maifest
DESCRIPTION:
URL:https://fv-dellmensingen.de/event/zeltaufbau-maifest/
LOCATION:Fischerheim Dellmensingen\, Werdensteinstraße 28\, Erbach\, Baden-Württemberg\, 89155\, Deutschland
ORGANIZER;CN="FV Dellmensingen e.V.":MAILTO:kontakt@fv-dellmensingen.de
END:VEVENT
BEGIN:VEVENT
DTSTART;TZID=Europe/Berlin:20230510T170000
DTEND;TZID=Europe/Berlin:20230510T173000
DTSTAMP:20260423T012251
CREATED:20230508T092017Z
LAST-MODIFIED:20230508T092027Z
UID:897-1683738000-1683739800@fv-dellmensingen.de
SUMMARY:Räuchertag Abgabe
DESCRIPTION:Räuchertag für Mitglieder – Abgabe der Fische
URL:https://fv-dellmensingen.de/event/raeuchertag-abgabe-2/
END:VEVENT
BEGIN:VEVENT
DTSTART;TZID=Europe/Berlin:20230512T170000
DTEND;TZID=Europe/Berlin:20230512T173000
DTSTAMP:20260423T012251
CREATED:20230508T092100Z
LAST-MODIFIED:20230508T093034Z
UID:899-1683910800-1683912600@fv-dellmensingen.de
SUMMARY:Räuchertag Abholung
DESCRIPTION:Räuchertag für Mitglieder – Abholung der Fische
URL:https://fv-dellmensingen.de/event/raeuchertag-fuer-mitglieder-abholung-der-fische/
END:VEVENT
END:VCALENDAR