BEGIN:VCALENDAR
VERSION:2.0
PRODID:-//Fischereiverein Dellmensingen e.V. - ECPv6.15.20//NONSGML v1.0//EN
CALSCALE:GREGORIAN
METHOD:PUBLISH
X-WR-CALNAME:Fischereiverein Dellmensingen e.V.
X-ORIGINAL-URL:https://fv-dellmensingen.de
X-WR-CALDESC:Veranstaltungen für Fischereiverein Dellmensingen e.V.
REFRESH-INTERVAL;VALUE=DURATION:PT1H
X-Robots-Tag:noindex
X-PUBLISHED-TTL:PT1H
BEGIN:VTIMEZONE
TZID:Europe/Berlin
BEGIN:DAYLIGHT
TZOFFSETFROM:+0100
TZOFFSETTO:+0200
TZNAME:CEST
DTSTART:20220327T010000
END:DAYLIGHT
BEGIN:STANDARD
TZOFFSETFROM:+0200
TZOFFSETTO:+0100
TZNAME:CET
DTSTART:20221030T010000
END:STANDARD
BEGIN:DAYLIGHT
TZOFFSETFROM:+0100
TZOFFSETTO:+0200
TZNAME:CEST
DTSTART:20230326T010000
END:DAYLIGHT
BEGIN:STANDARD
TZOFFSETFROM:+0200
TZOFFSETTO:+0100
TZNAME:CET
DTSTART:20231029T010000
END:STANDARD
BEGIN:DAYLIGHT
TZOFFSETFROM:+0100
TZOFFSETTO:+0200
TZNAME:CEST
DTSTART:20240331T010000
END:DAYLIGHT
BEGIN:STANDARD
TZOFFSETFROM:+0200
TZOFFSETTO:+0100
TZNAME:CET
DTSTART:20241027T010000
END:STANDARD
END:VTIMEZONE
BEGIN:VEVENT
DTSTART;TZID=Europe/Berlin:20230401T060000
DTEND;TZID=Europe/Berlin:20230401T060000
DTSTAMP:20260423T024216
CREATED:20230131T070634Z
LAST-MODIFIED:20230131T070634Z
UID:819-1680328800-1680328800@fv-dellmensingen.de
SUMMARY:Ende Forellenschonzeit
DESCRIPTION:Ende der Forellenschonzeit
URL:https://fv-dellmensingen.de/event/ende-forellenschonzeit/
LOCATION:Fischerheim Dellmensingen\, Werdensteinstraße 28\, Erbach\, Baden-Württemberg\, 89155\, Deutschland
ORGANIZER;CN="FV Dellmensingen e.V.":MAILTO:kontakt@fv-dellmensingen.de
END:VEVENT
BEGIN:VEVENT
DTSTART;TZID=Europe/Berlin:20230419T170000
DTEND;TZID=Europe/Berlin:20230419T180000
DTSTAMP:20260423T024216
CREATED:20230415T054146Z
LAST-MODIFIED:20230415T054146Z
UID:890-1681923600-1681927200@fv-dellmensingen.de
SUMMARY:Räuchertag - Abgabe
DESCRIPTION:Räuchertag für Mitglieder – Abgabe der Fische
URL:https://fv-dellmensingen.de/event/raeuchertag-abgabe/
LOCATION:Fischerheim Dellmensingen\, Werdensteinstraße 28\, Erbach\, Baden-Württemberg\, 89155\, Deutschland
ORGANIZER;CN="FV Dellmensingen e.V.":MAILTO:kontakt@fv-dellmensingen.de
END:VEVENT
BEGIN:VEVENT
DTSTART;TZID=Europe/Berlin:20230421T170000
DTEND;TZID=Europe/Berlin:20230421T180000
DTSTAMP:20260423T024216
CREATED:20230415T054240Z
LAST-MODIFIED:20230415T054303Z
UID:892-1682096400-1682100000@fv-dellmensingen.de
SUMMARY:Räuchertag - Abholung
DESCRIPTION:Räuchertag für Mitglieder – Abholung der Fische
URL:https://fv-dellmensingen.de/event/raeuchertag-anholung/
LOCATION:Fischerheim Dellmensingen\, Werdensteinstraße 28\, Erbach\, Baden-Württemberg\, 89155\, Deutschland
ORGANIZER;CN="FV Dellmensingen e.V.":MAILTO:kontakt@fv-dellmensingen.de
END:VEVENT
BEGIN:VEVENT
DTSTART;TZID=Europe/Berlin:20230421T180000
DTEND;TZID=Europe/Berlin:20230421T210000
DTSTAMP:20260423T024216
CREATED:20230113T074141Z
LAST-MODIFIED:20230313T145311Z
UID:800-1682100000-1682110800@fv-dellmensingen.de
SUMMARY:Vorbereitungslehrgang
DESCRIPTION:3\,0 Std.	Gerätekunde Theorie
URL:https://fv-dellmensingen.de/event/vorbereitungslehrgang-15/
LOCATION:Fischerheim Dellmensingen\, Werdensteinstraße 28\, Erbach\, Baden-Württemberg\, 89155\, Deutschland
CATEGORIES:Vorbereitungslehrgang
ORGANIZER;CN="FV Dellmensingen e.V.":MAILTO:kontakt@fv-dellmensingen.de
END:VEVENT
BEGIN:VEVENT
DTSTART;TZID=Europe/Berlin:20230422T080000
DTEND;TZID=Europe/Berlin:20230422T163000
DTSTAMP:20260423T024216
CREATED:20230113T074259Z
LAST-MODIFIED:20230313T145339Z
UID:802-1682150400-1682181000@fv-dellmensingen.de
SUMMARY:Vorbereitungslehrgang
DESCRIPTION:1\,0 Std.	Gerätekunde Praxis\n2\,0 Std.	Behandeln gefangener Fische\, Versorgen u. Verwerten\n3\,0 Std.	Gerätekunde Praxis
URL:https://fv-dellmensingen.de/event/vorbereitungslehrgang-16/
LOCATION:Fischerheim Dellmensingen\, Werdensteinstraße 28\, Erbach\, Baden-Württemberg\, 89155\, Deutschland
CATEGORIES:Vorbereitungslehrgang
ORGANIZER;CN="FV Dellmensingen e.V.":MAILTO:kontakt@fv-dellmensingen.de
END:VEVENT
BEGIN:VEVENT
DTSTART;TZID=Europe/Berlin:20230423T083000
DTEND;TZID=Europe/Berlin:20230423T153000
DTSTAMP:20260423T024216
CREATED:20230113T074842Z
LAST-MODIFIED:20230313T145347Z
UID:804-1682238600-1682263800@fv-dellmensingen.de
SUMMARY:Vorbereitungslehrgang
DESCRIPTION:3\,0 Std.	Gesetzeskunde\n2\,0 Std.	Gesetzeskunde\nAusgabe der Stundennachweise\nBeantworten anstehender Fragen
URL:https://fv-dellmensingen.de/event/vorbereitungslehrgang-17/
LOCATION:Fischerheim Dellmensingen\, Werdensteinstraße 28\, Erbach\, Baden-Württemberg\, 89155\, Deutschland
CATEGORIES:Vorbereitungslehrgang
ORGANIZER;CN="FV Dellmensingen e.V.":MAILTO:kontakt@fv-dellmensingen.de
END:VEVENT
BEGIN:VEVENT
DTSTART;TZID=Europe/Berlin:20230429T100000
DTEND;TZID=Europe/Berlin:20230429T120000
DTSTAMP:20260423T024216
CREATED:20230113T075025Z
LAST-MODIFIED:20230113T075025Z
UID:806-1682762400-1682769600@fv-dellmensingen.de
SUMMARY:Staatl. Prüfung
DESCRIPTION:Staatl. Prüfung\, Ort wird noch bekannt gegeben.\nAnschließend gemütliches Beisammensein im Fischerheim in Dellmensingen
URL:https://fv-dellmensingen.de/event/staatl-pruefung/
LOCATION:Fischerheim Dellmensingen\, Werdensteinstraße 28\, Erbach\, Baden-Württemberg\, 89155\, Deutschland
CATEGORIES:Vorbereitungslehrgang
END:VEVENT
END:VCALENDAR