BEGIN:VCALENDAR
VERSION:2.0
PRODID:-//Fischereiverein Dellmensingen e.V. - ECPv6.15.20//NONSGML v1.0//EN
CALSCALE:GREGORIAN
METHOD:PUBLISH
X-ORIGINAL-URL:https://fv-dellmensingen.de
X-WR-CALDESC:Veranstaltungen für Fischereiverein Dellmensingen e.V.
REFRESH-INTERVAL;VALUE=DURATION:PT1H
X-Robots-Tag:noindex
X-PUBLISHED-TTL:PT1H
BEGIN:VTIMEZONE
TZID:Europe/Berlin
BEGIN:DAYLIGHT
TZOFFSETFROM:+0100
TZOFFSETTO:+0200
TZNAME:CEST
DTSTART:20220327T010000
END:DAYLIGHT
BEGIN:STANDARD
TZOFFSETFROM:+0200
TZOFFSETTO:+0100
TZNAME:CET
DTSTART:20221030T010000
END:STANDARD
BEGIN:DAYLIGHT
TZOFFSETFROM:+0100
TZOFFSETTO:+0200
TZNAME:CEST
DTSTART:20230326T010000
END:DAYLIGHT
BEGIN:STANDARD
TZOFFSETFROM:+0200
TZOFFSETTO:+0100
TZNAME:CET
DTSTART:20231029T010000
END:STANDARD
BEGIN:DAYLIGHT
TZOFFSETFROM:+0100
TZOFFSETTO:+0200
TZNAME:CEST
DTSTART:20240331T010000
END:DAYLIGHT
BEGIN:STANDARD
TZOFFSETFROM:+0200
TZOFFSETTO:+0100
TZNAME:CET
DTSTART:20241027T010000
END:STANDARD
END:VTIMEZONE
BEGIN:VEVENT
DTSTART;TZID=Europe/Berlin:20230205T140000
DTEND;TZID=Europe/Berlin:20230205T160000
DTSTAMP:20260423T060123
CREATED:20230103T093544Z
LAST-MODIFIED:20230103T093545Z
UID:769-1675605600-1675612800@fv-dellmensingen.de
SUMMARY:Ausgabe Jahreserlaubnisscheine
DESCRIPTION:Ausgabe der Jahreserlaubnisscheine 2023. Bitte Fischereischein mitbringen.
URL:https://fv-dellmensingen.de/event/ausgabe-jahreserlaubnisscheine-2/
LOCATION:Fischerheim Dellmensingen\, Werdensteinstraße 28\, Erbach\, Baden-Württemberg\, 89155\, Deutschland
CATEGORIES:Kartenausgabe
ORGANIZER;CN="FV Dellmensingen e.V.":MAILTO:kontakt@fv-dellmensingen.de
END:VEVENT
BEGIN:VEVENT
DTSTART;TZID=Europe/Berlin:20230211T080000
DTEND;TZID=Europe/Berlin:20230211T120000
DTSTAMP:20260423T060124
CREATED:20230112T110108Z
LAST-MODIFIED:20230112T110108Z
UID:780-1676102400-1676116800@fv-dellmensingen.de
SUMMARY:2. Arbeitseinsatz
DESCRIPTION:2. Arbeitseinsatz\nTreffpunkt am Fischerheim
URL:https://fv-dellmensingen.de/event/2-arbeitseinsatz/
LOCATION:Fischerheim Dellmensingen\, Werdensteinstraße 28\, Erbach\, Baden-Württemberg\, 89155\, Deutschland
CATEGORIES:Arbeitseinsatz
END:VEVENT
BEGIN:VEVENT
DTSTART;TZID=Europe/Berlin:20230212T090000
DTEND;TZID=Europe/Berlin:20230212T110000
DTSTAMP:20260423T060124
CREATED:20230112T105856Z
LAST-MODIFIED:20230206T070140Z
UID:778-1676192400-1676199600@fv-dellmensingen.de
SUMMARY:Gewässerbegehung
DESCRIPTION:Gewässerbegehung – Pflichtveranstaltung für alle Neu-Mitglieder\nTreffpunkt Fischerheim Dellmensingen
URL:https://fv-dellmensingen.de/event/gewaesserbegehung-2/
LOCATION:Fischerheim Dellmensingen\, Werdensteinstraße 28\, Erbach\, Baden-Württemberg\, 89155\, Deutschland
END:VEVENT
BEGIN:VEVENT
DTSTART;VALUE=DATE:20230218
DTEND;VALUE=DATE:20230220
DTSTAMP:20260423T060124
CREATED:20230201T072523Z
LAST-MODIFIED:20230201T072523Z
UID:832-1676678400-1676851199@fv-dellmensingen.de
SUMMARY:Haxen to Go
DESCRIPTION:Haxen to GO\nInformationen und Bestellung unter Haxen to GO
URL:https://fv-dellmensingen.de/event/haxen-to-go-2/
LOCATION:Fischerheim Dellmensingen\, Werdensteinstraße 28\, Erbach\, Baden-Württemberg\, 89155\, Deutschland
ORGANIZER;CN="FV Dellmensingen e.V.":MAILTO:kontakt@fv-dellmensingen.de
END:VEVENT
BEGIN:VEVENT
DTSTART;VALUE=DATE:20230222
DTEND;VALUE=DATE:20230223
DTSTAMP:20260423T060124
CREATED:20230202T123128Z
LAST-MODIFIED:20230202T140713Z
UID:839-1677024000-1677110399@fv-dellmensingen.de
SUMMARY:Aschermittwochsessen im Fischerheim
DESCRIPTION:Dieses Jahr findet wieder unser traditionelles Aschermittwochsessen  in unserem Fischerheim in Dellmensingen statt. \nWann? Aschermittwoch\, 22. Februar 2023\,  um 16:30 Uhr oder um 19:00 Uhr\nWo? Fischerheim Dellmensingen \nBitte beachten: Da nur eine begrenzte Anzahl von Plätzen verfügbar ist\, ist eine Anmeldung zwingend erforderlich.
URL:https://fv-dellmensingen.de/event/aschermittwochsessen-im-fischerheim/
LOCATION:Fischerheim Dellmensingen\, Werdensteinstraße 28\, Erbach\, Baden-Württemberg\, 89155\, Deutschland
CATEGORIES:öffentliche Veranstaltung
ORGANIZER;CN="FV Dellmensingen e.V.":MAILTO:kontakt@fv-dellmensingen.de
END:VEVENT
END:VCALENDAR