BEGIN:VCALENDAR
VERSION:2.0
PRODID:-//Fischereiverein Dellmensingen e.V. - ECPv6.15.20//NONSGML v1.0//EN
CALSCALE:GREGORIAN
METHOD:PUBLISH
X-ORIGINAL-URL:https://fv-dellmensingen.de
X-WR-CALDESC:Veranstaltungen für Fischereiverein Dellmensingen e.V.
REFRESH-INTERVAL;VALUE=DURATION:PT1H
X-Robots-Tag:noindex
X-PUBLISHED-TTL:PT1H
BEGIN:VTIMEZONE
TZID:Europe/Berlin
BEGIN:DAYLIGHT
TZOFFSETFROM:+0100
TZOFFSETTO:+0200
TZNAME:CEST
DTSTART:20210328T010000
END:DAYLIGHT
BEGIN:STANDARD
TZOFFSETFROM:+0200
TZOFFSETTO:+0100
TZNAME:CET
DTSTART:20211031T010000
END:STANDARD
BEGIN:DAYLIGHT
TZOFFSETFROM:+0100
TZOFFSETTO:+0200
TZNAME:CEST
DTSTART:20220327T010000
END:DAYLIGHT
BEGIN:STANDARD
TZOFFSETFROM:+0200
TZOFFSETTO:+0100
TZNAME:CET
DTSTART:20221030T010000
END:STANDARD
BEGIN:DAYLIGHT
TZOFFSETFROM:+0100
TZOFFSETTO:+0200
TZNAME:CEST
DTSTART:20230326T010000
END:DAYLIGHT
BEGIN:STANDARD
TZOFFSETFROM:+0200
TZOFFSETTO:+0100
TZNAME:CET
DTSTART:20231029T010000
END:STANDARD
END:VTIMEZONE
BEGIN:VEVENT
DTSTART;TZID=Europe/Berlin:20221007T180000
DTEND;TZID=Europe/Berlin:20221007T213000
DTSTAMP:20260425T150615
CREATED:20220506T115047Z
LAST-MODIFIED:20220927T194130Z
UID:604-1665165600-1665178200@fv-dellmensingen.de
SUMMARY:Vorbereitungslehrgang
DESCRIPTION:18.00 – 21.30             3\,0 Std.           Allgemeine Fischkunde
URL:https://fv-dellmensingen.de/event/vorbereitungslehrgang-6/
LOCATION:Fischerheim Dellmensingen\, Werdensteinstraße 28\, Erbach\, Baden-Württemberg\, 89155\, Deutschland
CATEGORIES:Vorbereitungslehrgang
ORGANIZER;CN="FV Dellmensingen e.V.":MAILTO:kontakt@fv-dellmensingen.de
END:VEVENT
BEGIN:VEVENT
DTSTART;TZID=Europe/Berlin:20221008T083000
DTEND;TZID=Europe/Berlin:20221008T174500
DTSTAMP:20260425T150615
CREATED:20220506T115204Z
LAST-MODIFIED:20220927T194054Z
UID:606-1665217800-1665251100@fv-dellmensingen.de
SUMMARY:Vorbereitungslehrgang
DESCRIPTION:1\,0 Std.           Allgemeine Fischkunde \n2\,0 Std.           Spezielle Fischkunde \n2\,0 Std.           Spezielle Fischkunde \n2\,0 Std.           Gewässerökologie
URL:https://fv-dellmensingen.de/event/vorbereitungslehrgang-7/
LOCATION:Fischerheim Dellmensingen\, Werdensteinstraße 28\, Erbach\, Baden-Württemberg\, 89155\, Deutschland
CATEGORIES:Vorbereitungslehrgang
ORGANIZER;CN="FV Dellmensingen e.V.":MAILTO:kontakt@fv-dellmensingen.de
END:VEVENT
BEGIN:VEVENT
DTSTART;TZID=Europe/Berlin:20221009T083000
DTEND;TZID=Europe/Berlin:20221009T163000
DTSTAMP:20260425T150615
CREATED:20220506T115306Z
LAST-MODIFIED:20220927T194040Z
UID:608-1665304200-1665333000@fv-dellmensingen.de
SUMMARY:Vorbereitungslehrgang
DESCRIPTION:3\,0 Std.           Gewässerökologie \n2\,0 Std.           Gewässerökologie \n1\,0 Std.           Gewässerökologie Fischkrankheiten
URL:https://fv-dellmensingen.de/event/vorbereitungslehrgang-8/
LOCATION:Fischerheim Dellmensingen\, Werdensteinstraße 28\, Erbach\, Baden-Württemberg\, 89155\, Deutschland
CATEGORIES:Vorbereitungslehrgang
ORGANIZER;CN="FV Dellmensingen e.V.":MAILTO:kontakt@fv-dellmensingen.de
END:VEVENT
BEGIN:VEVENT
DTSTART;TZID=Europe/Berlin:20221013T193000
DTEND;TZID=Europe/Berlin:20221013T193000
DTSTAMP:20260425T150615
CREATED:20221010T070520Z
LAST-MODIFIED:20221010T070520Z
UID:691-1665689400-1665689400@fv-dellmensingen.de
SUMMARY:Stammtisch
DESCRIPTION:Liebe Kameraden\, \nwir wollen gerne allen unseren Mitgliedern die Möglichkeit bieten\, neue Kontakte zu knüpfen und bestehende zu vertiefen. \nHierzu werden wir ab sofort jeden zweiten Donnerstag im Monat einen Fischerstammtisch abhalten. \nIn geselliger Runde könnt ihr euch bei Bewirtung mit euren Kameraden austauschen. \nJeder ist willkommen\, ob Neu-Mitglied oder Alter Hase\, ob Jung ob Alt. \nWir freuen uns auf euer kommen\, \nBeginn ist 19:30 Uhr – späterer Einstieg aber natürlich auch jederzeit möglich.
URL:https://fv-dellmensingen.de/event/stammtisch-5/
LOCATION:Fischerheim Dellmensingen\, Werdensteinstraße 28\, Erbach\, Baden-Württemberg\, 89155\, Deutschland
CATEGORIES:Kameradschaft
ATTACH;FMTTYPE=image/jpeg:https://fv-dellmensingen.de/wp-content/uploads/2021/10/Stammtisch.jpg
END:VEVENT
BEGIN:VEVENT
DTSTART;TZID=Europe/Berlin:20221022T170000
DTEND;TZID=Europe/Berlin:20221022T180000
DTSTAMP:20260425T150615
CREATED:20220912T072140Z
LAST-MODIFIED:20220913T105127Z
UID:670-1666458000-1666461600@fv-dellmensingen.de
SUMMARY:Schweinshaxen zur Abholung
DESCRIPTION:Der Fischereiverein Dellmensingen e.V. \nbietet wieder frisch gegrillte Haxen mit Kraut und selbstgemachte Knauzen zur Abholung an. \nMögliche Abholzeiten: \n17:00 Uhr \n17:30 Uhr \n18:00 Uhr \nBitte gewünschte Abholzeit bei der Bestellung angeben.
URL:https://fv-dellmensingen.de/event/schweinshaxen-zur-abholung/
LOCATION:Fischerheim Dellmensingen\, Werdensteinstraße 28\, Erbach\, Baden-Württemberg\, 89155\, Deutschland
ORGANIZER;CN="FV Dellmensingen e.V.":MAILTO:kontakt@fv-dellmensingen.de
END:VEVENT
BEGIN:VEVENT
DTSTART;TZID=Europe/Berlin:20221023T113000
DTEND;TZID=Europe/Berlin:20221023T123000
DTSTAMP:20260425T150615
CREATED:20220912T072300Z
LAST-MODIFIED:20220913T105102Z
UID:672-1666524600-1666528200@fv-dellmensingen.de
SUMMARY:Schweinshaxen zur Abholung
DESCRIPTION:Der Fischereiverein Dellmensingen e.V. \nbietet wieder frisch gegrillte Haxen mit Kraut und selbstgemachte Knauzen zur Abholung an. \nMögliche Abholzeiten: \n11:30 Uhr \n12:00 Uhr \n12:30 Uhr \nBitte gewünschte Abholzeit bei der Bestellung angeben.
URL:https://fv-dellmensingen.de/event/672/
LOCATION:Fischerheim Dellmensingen\, Werdensteinstraße 28\, Erbach\, Baden-Württemberg\, 89155\, Deutschland
ORGANIZER;CN="FV Dellmensingen e.V.":MAILTO:kontakt@fv-dellmensingen.de
END:VEVENT
END:VCALENDAR