BEGIN:VCALENDAR
VERSION:2.0
PRODID:-//Fischereiverein Dellmensingen e.V. - ECPv6.15.20//NONSGML v1.0//EN
CALSCALE:GREGORIAN
METHOD:PUBLISH
X-WR-CALNAME:Fischereiverein Dellmensingen e.V.
X-ORIGINAL-URL:https://fv-dellmensingen.de
X-WR-CALDESC:Veranstaltungen für Fischereiverein Dellmensingen e.V.
REFRESH-INTERVAL;VALUE=DURATION:PT1H
X-Robots-Tag:noindex
X-PUBLISHED-TTL:PT1H
BEGIN:VTIMEZONE
TZID:Europe/Berlin
BEGIN:DAYLIGHT
TZOFFSETFROM:+0100
TZOFFSETTO:+0200
TZNAME:CEST
DTSTART:20210328T010000
END:DAYLIGHT
BEGIN:STANDARD
TZOFFSETFROM:+0200
TZOFFSETTO:+0100
TZNAME:CET
DTSTART:20211031T010000
END:STANDARD
BEGIN:DAYLIGHT
TZOFFSETFROM:+0100
TZOFFSETTO:+0200
TZNAME:CEST
DTSTART:20220327T010000
END:DAYLIGHT
BEGIN:STANDARD
TZOFFSETFROM:+0200
TZOFFSETTO:+0100
TZNAME:CET
DTSTART:20221030T010000
END:STANDARD
BEGIN:DAYLIGHT
TZOFFSETFROM:+0100
TZOFFSETTO:+0200
TZNAME:CEST
DTSTART:20230326T010000
END:DAYLIGHT
BEGIN:STANDARD
TZOFFSETFROM:+0200
TZOFFSETTO:+0100
TZNAME:CET
DTSTART:20231029T010000
END:STANDARD
END:VTIMEZONE
BEGIN:VEVENT
DTSTART;TZID=Europe/Berlin:20220927T183000
DTEND;TZID=Europe/Berlin:20220927T200000
DTSTAMP:20260425T175908
CREATED:20220506T114946Z
LAST-MODIFIED:20220506T114946Z
UID:602-1664303400-1664308800@fv-dellmensingen.de
SUMMARY:Vorbereitungslehrgang
DESCRIPTION:Einführung\, Lehrgangsunterlagen
URL:https://fv-dellmensingen.de/event/vorbereitungslehrgang-5/
LOCATION:Fischerheim Dellmensingen\, Werdensteinstraße 28\, Erbach\, Baden-Württemberg\, 89155\, Deutschland
CATEGORIES:Vorbereitungslehrgang
ORGANIZER;CN="FV Dellmensingen e.V.":MAILTO:kontakt@fv-dellmensingen.de
END:VEVENT
END:VCALENDAR