BEGIN:VCALENDAR
VERSION:2.0
PRODID:-//Fischereiverein Dellmensingen e.V. - ECPv6.15.20//NONSGML v1.0//EN
CALSCALE:GREGORIAN
METHOD:PUBLISH
X-WR-CALNAME:Fischereiverein Dellmensingen e.V.
X-ORIGINAL-URL:https://fv-dellmensingen.de
X-WR-CALDESC:Veranstaltungen für Fischereiverein Dellmensingen e.V.
REFRESH-INTERVAL;VALUE=DURATION:PT1H
X-Robots-Tag:noindex
X-PUBLISHED-TTL:PT1H
BEGIN:VTIMEZONE
TZID:Europe/Berlin
BEGIN:DAYLIGHT
TZOFFSETFROM:+0100
TZOFFSETTO:+0200
TZNAME:CEST
DTSTART:20210328T010000
END:DAYLIGHT
BEGIN:STANDARD
TZOFFSETFROM:+0200
TZOFFSETTO:+0100
TZNAME:CET
DTSTART:20211031T010000
END:STANDARD
BEGIN:DAYLIGHT
TZOFFSETFROM:+0100
TZOFFSETTO:+0200
TZNAME:CEST
DTSTART:20220327T010000
END:DAYLIGHT
BEGIN:STANDARD
TZOFFSETFROM:+0200
TZOFFSETTO:+0100
TZNAME:CET
DTSTART:20221030T010000
END:STANDARD
BEGIN:DAYLIGHT
TZOFFSETFROM:+0100
TZOFFSETTO:+0200
TZNAME:CEST
DTSTART:20230326T010000
END:DAYLIGHT
BEGIN:STANDARD
TZOFFSETFROM:+0200
TZOFFSETTO:+0100
TZNAME:CET
DTSTART:20231029T010000
END:STANDARD
END:VTIMEZONE
BEGIN:VEVENT
DTSTART;TZID=Europe/Berlin:20220302T163000
DTEND;TZID=Europe/Berlin:20220302T220000
DTSTAMP:20260426T014608
CREATED:20220107T112017Z
LAST-MODIFIED:20220208T103924Z
UID:409-1646238600-1646258400@fv-dellmensingen.de
SUMMARY:Aschermittwoch Fischessen
DESCRIPTION:1. Schicht 16:30 Uhr bis 60 Personen \n2. Schicht 19:00 Uhr bis 60 Personen
URL:https://fv-dellmensingen.de/event/aschermittwoch-fischessen/
LOCATION:Fischerheim Dellmensingen\, Werdensteinstraße 28\, Erbach\, Baden-Württemberg\, 89155\, Deutschland
CATEGORIES:Arbeitseinsatz,öffentliche Veranstaltung
END:VEVENT
BEGIN:VEVENT
DTSTART;TZID=Europe/Berlin:20220303T193000
DTEND;TZID=Europe/Berlin:20220303T193000
DTSTAMP:20260426T014608
CREATED:20211210T102550Z
LAST-MODIFIED:20220119T125050Z
UID:380-1646335800-1646335800@fv-dellmensingen.de
SUMMARY:Stammtisch für Jäger\, Fischer und andere Lügner
DESCRIPTION:Liebe Kameraden\, \nwir wollen gerne allen unseren Mitgliedern die Möglichkeit bieten\, neue Kontakte zu knüpfen und bestehende zu vertiefen. \nHierzu werden wir ab sofort jeden ersten Donnerstag im Monat (außer an Feiertagen) einen Fischerstammtisch abhalten. \nIn geselliger Runde könnt ihr euch bei Bewirtung mit euren Kameraden austauschen. \nJeder ist willkommen\, ob Neu-Mitglied oder Alter Hase\, ob Jung ob Alt. \nWir freuen uns auf euer kommen\, \nBeginn ist 19:30 Uhr – späterer Einstieg aber natürlich auch jederzeit möglich.
URL:https://fv-dellmensingen.de/event/stammtisch-fuer-jaeger-fischer-und-andere-luegner-5/
LOCATION:Fischerheim Dellmensingen\, Werdensteinstraße 28\, Erbach\, Baden-Württemberg\, 89155\, Deutschland
ATTACH;FMTTYPE=image/jpeg:https://fv-dellmensingen.de/wp-content/uploads/2021/10/Stammtisch.jpg
ORGANIZER;CN="FV Dellmensingen e.V.":MAILTO:kontakt@fv-dellmensingen.de
END:VEVENT
BEGIN:VEVENT
DTSTART;VALUE=DATE:20220317
DTEND;VALUE=DATE:20220318
DTSTAMP:20260426T014608
CREATED:20211210T102304Z
LAST-MODIFIED:20220216T135326Z
UID:377-1647475200-1647561599@fv-dellmensingen.de
SUMMARY:Annahmeschluss für Klamottenbestellungen
DESCRIPTION:Heute ist die letzte Gelegenheit\, Bestellungen für die Klamottenbestellung aufzugeben und zu zahlen. \nAm Freitag. 18.03.2022 geben wir die bestellten Sachen in Auftrag \n 
URL:https://fv-dellmensingen.de/event/annahmeschluss-fuer-klamottenbestellungen/
LOCATION:Fischerheim Dellmensingen\, Werdensteinstraße 28\, Erbach\, Baden-Württemberg\, 89155\, Deutschland
ORGANIZER;CN="FV Dellmensingen e.V.":MAILTO:kontakt@fv-dellmensingen.de
END:VEVENT
BEGIN:VEVENT
DTSTART;TZID=Europe/Berlin:20220322T180000
DTEND;TZID=Europe/Berlin:20220322T193000
DTSTAMP:20260426T014608
CREATED:20211207T114229Z
LAST-MODIFIED:20211207T114756Z
UID:352-1647972000-1647977400@fv-dellmensingen.de
SUMMARY:Vorbereitungslehrgang
DESCRIPTION:18.00 – 19.30 1\,5 Std. Einführung\, Lehrgangsunterlagen
URL:https://fv-dellmensingen.de/event/vorbereitungslehrgang-einfuehrung-lehrgangsunterlagen/
LOCATION:Fischerheim Dellmensingen\, Werdensteinstraße 28\, Erbach\, Baden-Württemberg\, 89155\, Deutschland
CATEGORIES:Vorbereitungslehrgang
ORGANIZER;CN="FV Dellmensingen e.V.":MAILTO:kontakt@fv-dellmensingen.de
END:VEVENT
BEGIN:VEVENT
DTSTART;TZID=Europe/Berlin:20220325T190000
DTEND;TZID=Europe/Berlin:20220325T220000
DTSTAMP:20260426T014608
CREATED:20220107T112113Z
LAST-MODIFIED:20220107T112113Z
UID:411-1648234800-1648245600@fv-dellmensingen.de
SUMMARY:Jahreshauptversammlung
DESCRIPTION:Tagesordnung für Jahreshauptversammlung folgt noch.
URL:https://fv-dellmensingen.de/event/jahreshauptversammlung/
LOCATION:Fischerheim Dellmensingen\, Werdensteinstraße 28\, Erbach\, Baden-Württemberg\, 89155\, Deutschland
ORGANIZER;CN="FV Dellmensingen e.V.":MAILTO:kontakt@fv-dellmensingen.de
END:VEVENT
BEGIN:VEVENT
DTSTART;TZID=Europe/Berlin:20220326T080000
DTEND;TZID=Europe/Berlin:20220326T120000
DTSTAMP:20260426T014608
CREATED:20220119T112936Z
LAST-MODIFIED:20220119T112936Z
UID:443-1648281600-1648296000@fv-dellmensingen.de
SUMMARY:Gewässerputzete
DESCRIPTION:Arbeitseinsatz Gewässerputzete. Wir befreien wieder die Gewässer / Uferbereiche von Müll und Unrat
URL:https://fv-dellmensingen.de/event/gewaesserputzete/
LOCATION:Fischerheim Dellmensingen\, Werdensteinstraße 28\, Erbach\, Baden-Württemberg\, 89155\, Deutschland
CATEGORIES:Arbeitseinsatz
ORGANIZER;CN="FV Dellmensingen e.V.":MAILTO:kontakt@fv-dellmensingen.de
END:VEVENT
END:VCALENDAR