BEGIN:VCALENDAR
VERSION:2.0
PRODID:-//Fischereiverein Dellmensingen e.V. - ECPv6.15.20//NONSGML v1.0//EN
CALSCALE:GREGORIAN
METHOD:PUBLISH
X-WR-CALNAME:Fischereiverein Dellmensingen e.V.
X-ORIGINAL-URL:https://fv-dellmensingen.de
X-WR-CALDESC:Veranstaltungen für Fischereiverein Dellmensingen e.V.
REFRESH-INTERVAL;VALUE=DURATION:PT1H
X-Robots-Tag:noindex
X-PUBLISHED-TTL:PT1H
BEGIN:VTIMEZONE
TZID:Europe/Berlin
BEGIN:DAYLIGHT
TZOFFSETFROM:+0100
TZOFFSETTO:+0200
TZNAME:CEST
DTSTART:20210328T010000
END:DAYLIGHT
BEGIN:STANDARD
TZOFFSETFROM:+0200
TZOFFSETTO:+0100
TZNAME:CET
DTSTART:20211031T010000
END:STANDARD
BEGIN:DAYLIGHT
TZOFFSETFROM:+0100
TZOFFSETTO:+0200
TZNAME:CEST
DTSTART:20220327T010000
END:DAYLIGHT
BEGIN:STANDARD
TZOFFSETFROM:+0200
TZOFFSETTO:+0100
TZNAME:CET
DTSTART:20221030T010000
END:STANDARD
BEGIN:DAYLIGHT
TZOFFSETFROM:+0100
TZOFFSETTO:+0200
TZNAME:CEST
DTSTART:20230326T010000
END:DAYLIGHT
BEGIN:STANDARD
TZOFFSETFROM:+0200
TZOFFSETTO:+0100
TZNAME:CET
DTSTART:20231029T010000
END:STANDARD
END:VTIMEZONE
BEGIN:VEVENT
DTSTART;TZID=Europe/Berlin:20220203T193000
DTEND;TZID=Europe/Berlin:20220203T193000
DTSTAMP:20260426T032105
CREATED:20211025T193012Z
LAST-MODIFIED:20220119T124858Z
UID:157-1643916600-1643916600@fv-dellmensingen.de
SUMMARY:Stammtisch für Jäger\, Fischer und andere Lügner
DESCRIPTION:Liebe Kameraden\, \nwir wollen gerne allen unseren Mitgliedern die Möglichkeit bieten\, neue Kontakte zu knüpfen und bestehende zu vertiefen. \nHierzu werden wir ab sofort jeden ersten Donnerstag im Monat (außer an Feiertagen) einen Fischerstammtisch abhalten. \nIn geselliger Runde könnt ihr euch bei Bewirtung mit euren Kameraden austauschen. \nJeder ist willkommen\, ob Neu-Mitglied oder Alter Hase\, ob Jung ob Alt. \nWir freuen uns auf euer kommen\, \nBeginn ist 19:30 Uhr – späterer Einstieg aber natürlich auch jederzeit möglich.
URL:https://fv-dellmensingen.de/event/stammtisch-fuer-jaeger-fischer-und-andere-luegner-3/
LOCATION:Fischerheim Dellmensingen\, Werdensteinstraße 28\, Erbach\, Baden-Württemberg\, 89155\, Deutschland
CATEGORIES:Kameradschaft
ATTACH;FMTTYPE=image/jpeg:https://fv-dellmensingen.de/wp-content/uploads/2021/10/Stammtisch.jpg
ORGANIZER;CN="FV Dellmensingen e.V.":MAILTO:kontakt@fv-dellmensingen.de
END:VEVENT
BEGIN:VEVENT
DTSTART;TZID=Europe/Berlin:20220206T100000
DTEND;TZID=Europe/Berlin:20220206T120000
DTSTAMP:20260426T032105
CREATED:20220107T111728Z
LAST-MODIFIED:20220107T111737Z
UID:403-1644141600-1644148800@fv-dellmensingen.de
SUMMARY:Gewässerbegehung
DESCRIPTION:Gewässerbegehung – Pflichtveranstatlung für alle Neu-Mitglieder
URL:https://fv-dellmensingen.de/event/gewaesserbegehung/
LOCATION:Fischerheim Dellmensingen\, Werdensteinstraße 28\, Erbach\, Baden-Württemberg\, 89155\, Deutschland
ORGANIZER;CN="FV Dellmensingen e.V.":MAILTO:kontakt@fv-dellmensingen.de
END:VEVENT
BEGIN:VEVENT
DTSTART;TZID=Europe/Berlin:20220206T140000
DTEND;TZID=Europe/Berlin:20220206T140000
DTSTAMP:20260426T032105
CREATED:20211022T112423Z
LAST-MODIFIED:20211220T124639Z
UID:21-1644156000-1644156000@fv-dellmensingen.de
SUMMARY:Kartenausgabe 2022 Termin 2
DESCRIPTION:
URL:https://fv-dellmensingen.de/event/kartenausgabe-2022-termin-2/
LOCATION:Fischerheim Dellmensingen\, Werdensteinstraße 28\, Erbach\, Baden-Württemberg\, 89155\, Deutschland
CATEGORIES:Kartenausgabe
ORGANIZER;CN="FV Dellmensingen e.V.":MAILTO:kontakt@fv-dellmensingen.de
END:VEVENT
BEGIN:VEVENT
DTSTART;TZID=Europe/Berlin:20220212T080000
DTEND;TZID=Europe/Berlin:20220212T120000
DTSTAMP:20260426T032105
CREATED:20220107T111832Z
LAST-MODIFIED:20220107T111851Z
UID:406-1644652800-1644667200@fv-dellmensingen.de
SUMMARY:Arbeitseinsatz
DESCRIPTION:Vogelsee \nAltwasser
URL:https://fv-dellmensingen.de/event/arbeitseinsatz-3/
LOCATION:Fischerheim Dellmensingen\, Werdensteinstraße 28\, Erbach\, Baden-Württemberg\, 89155\, Deutschland
ORGANIZER;CN="FV Dellmensingen e.V.":MAILTO:kontakt@fv-dellmensingen.de
END:VEVENT
BEGIN:VEVENT
DTSTART;TZID=Europe/Berlin:20220224T160000
DTEND;TZID=Europe/Berlin:20220224T180000
DTSTAMP:20260426T032105
CREATED:20220210T091405Z
LAST-MODIFIED:20220216T101419Z
UID:504-1645718400-1645725600@fv-dellmensingen.de
SUMMARY:Räucherlachs-Verkauf
DESCRIPTION:Ausgabe der Bestellungen zwischen 16:00 Uhr und 18:00 Uhr am Fischerheim in Dellmensingen. \n 
URL:https://fv-dellmensingen.de/event/raeucherlachs-verkauf/
LOCATION:Fischerheim Dellmensingen\, Werdensteinstraße 28\, Erbach\, Baden-Württemberg\, 89155\, Deutschland
ORGANIZER;CN="FV Dellmensingen e.V.":MAILTO:kontakt@fv-dellmensingen.de
END:VEVENT
BEGIN:VEVENT
DTSTART;TZID=Europe/Berlin:20220226T160000
DTEND;TZID=Europe/Berlin:20220226T180000
DTSTAMP:20260426T032105
CREATED:20220210T091744Z
LAST-MODIFIED:20220224T135114Z
UID:506-1645891200-1645898400@fv-dellmensingen.de
SUMMARY:Sulzen mit Knauzen "to go"
DESCRIPTION:Da unser Aschermittwochs-Fischessen dieses Jahr leider ausfällt\, bieten wir Tellersulzen (mit Schweinefleisch 🐷\, nicht mit Fisch 🐟 😉) mit selbst gemachten Knauzen zur Abholung an. \nDie vorbestellten Sulzen können am 26.02.2022 zwischen 16:00 Uhr und 18:00 Uhr am Fischerheim in Dellmensingen abgeholt werden. \n 
URL:https://fv-dellmensingen.de/event/sulzen-mit-knauzen-to-go/
LOCATION:Fischerheim Dellmensingen\, Werdensteinstraße 28\, Erbach\, Baden-Württemberg\, 89155\, Deutschland
ORGANIZER;CN="FV Dellmensingen e.V.":MAILTO:kontakt@fv-dellmensingen.de
END:VEVENT
END:VCALENDAR