BEGIN:VCALENDAR
VERSION:2.0
PRODID:-//Fischereiverein Dellmensingen e.V. - ECPv6.15.20//NONSGML v1.0//EN
CALSCALE:GREGORIAN
METHOD:PUBLISH
X-ORIGINAL-URL:https://fv-dellmensingen.de
X-WR-CALDESC:Veranstaltungen für Fischereiverein Dellmensingen e.V.
REFRESH-INTERVAL;VALUE=DURATION:PT1H
X-Robots-Tag:noindex
X-PUBLISHED-TTL:PT1H
BEGIN:VTIMEZONE
TZID:Europe/Berlin
BEGIN:DAYLIGHT
TZOFFSETFROM:+0100
TZOFFSETTO:+0200
TZNAME:CEST
DTSTART:20210328T010000
END:DAYLIGHT
BEGIN:STANDARD
TZOFFSETFROM:+0200
TZOFFSETTO:+0100
TZNAME:CET
DTSTART:20211031T010000
END:STANDARD
BEGIN:DAYLIGHT
TZOFFSETFROM:+0100
TZOFFSETTO:+0200
TZNAME:CEST
DTSTART:20220327T010000
END:DAYLIGHT
BEGIN:STANDARD
TZOFFSETFROM:+0200
TZOFFSETTO:+0100
TZNAME:CET
DTSTART:20221030T010000
END:STANDARD
BEGIN:DAYLIGHT
TZOFFSETFROM:+0100
TZOFFSETTO:+0200
TZNAME:CEST
DTSTART:20230326T010000
END:DAYLIGHT
BEGIN:STANDARD
TZOFFSETFROM:+0200
TZOFFSETTO:+0100
TZNAME:CET
DTSTART:20231029T010000
END:STANDARD
END:VTIMEZONE
BEGIN:VEVENT
DTSTART;TZID=Europe/Berlin:20220106T193000
DTEND;TZID=Europe/Berlin:20220106T193000
DTSTAMP:20260426T045422
CREATED:20211203T115435Z
LAST-MODIFIED:20211203T115738Z
UID:326-1641497400-1641497400@fv-dellmensingen.de
SUMMARY:Stammtisch für Jäger\, Fischer und andere Lügner
DESCRIPTION:*** wir haben uns entschlossen\, uns auch trotz Feiertag zu treffen\, falls der ein oder andere gerne nach den Feiertagen mal raus wollen 🙂 *** \nLiebe Kameraden\, \nwir wollen gerne allen unseren Mitgliedern die Möglichkeit bieten\, neue Kontakte zu knüpfen und bestehende zu vertiefen. \nHierzu werden wir ab sofort jeden ersten Donnerstag im Monat einen Fischerstammtisch abhalten. \nIn geselliger Runde könnt ihr euch bei Bewirtung mit euren Kameraden austauschen. \nJeder ist willkommen\, ob Neu-Mitglied oder Alter Hase\, ob Jung ob Alt. \nWir freuen uns auf euer kommen\, \nBeginn ist 19:30 Uhr – späterer Einstieg aber natürlich auch jederzeit möglich.
URL:https://fv-dellmensingen.de/event/stammtisch-fuer-jaeger-fischer-und-andere-luegner-4/
LOCATION:Fischerheim Dellmensingen\, Werdensteinstraße 28\, Erbach\, Baden-Württemberg\, 89155\, Deutschland
CATEGORIES:Kameradschaft
ATTACH;FMTTYPE=image/jpeg:https://fv-dellmensingen.de/wp-content/uploads/2021/10/4910284A-92D2-4A41-83B4-D0CA8A50D8E3-scaled-e1647270164467.jpeg
ORGANIZER;CN="FV Dellmensingen e.V.":MAILTO:kontakt@fv-dellmensingen.de
END:VEVENT
BEGIN:VEVENT
DTSTART;TZID=Europe/Berlin:20220115T080000
DTEND;TZID=Europe/Berlin:20220115T120000
DTSTAMP:20260426T045422
CREATED:20220107T111408Z
LAST-MODIFIED:20220107T112614Z
UID:399-1642233600-1642248000@fv-dellmensingen.de
SUMMARY:Arbeitseinsatz
DESCRIPTION:Treffpunkt 08:00 Uhr am Fischerheim \nBaggersee Erbach Damm befestigen. \nAltwasser
URL:https://fv-dellmensingen.de/event/arbeitseinsatz/
LOCATION:Fischerheim Dellmensingen\, Werdensteinstraße 28\, Erbach\, Baden-Württemberg\, 89155\, Deutschland
ORGANIZER;CN="FV Dellmensingen e.V.":MAILTO:kontakt@fv-dellmensingen.de
END:VEVENT
BEGIN:VEVENT
DTSTART;VALUE=DATE:20220122
DTEND;VALUE=DATE:20220123
DTSTAMP:20260426T045422
CREATED:20220122T213019Z
LAST-MODIFIED:20220122T213019Z
UID:465-1642809600-1642895999@fv-dellmensingen.de
SUMMARY:Kameradschaftsfischen
DESCRIPTION:Details folgen
URL:https://fv-dellmensingen.de/event/kameradschaftsfischen/
LOCATION:Fischerheim Dellmensingen\, Werdensteinstraße 28\, Erbach\, Baden-Württemberg\, 89155\, Deutschland
ORGANIZER;CN="FV Dellmensingen e.V.":MAILTO:kontakt@fv-dellmensingen.de
END:VEVENT
BEGIN:VEVENT
DTSTART;TZID=Europe/Berlin:20220128T193000
DTEND;TZID=Europe/Berlin:20220128T193000
DTSTAMP:20260426T045422
CREATED:20211022T112442Z
LAST-MODIFIED:20211220T124617Z
UID:19-1643398200-1643398200@fv-dellmensingen.de
SUMMARY:Kartenausgabe 2022 Termin 1
DESCRIPTION:
URL:https://fv-dellmensingen.de/event/kartenausgabe-2022-termin-1/
LOCATION:Fischerheim Dellmensingen\, Werdensteinstraße 28\, Erbach\, Baden-Württemberg\, 89155\, Deutschland
CATEGORIES:Kartenausgabe
ORGANIZER;CN="FV Dellmensingen e.V.":MAILTO:kontakt@fv-dellmensingen.de
END:VEVENT
BEGIN:VEVENT
DTSTART;TZID=Europe/Berlin:20220129T080000
DTEND;TZID=Europe/Berlin:20220129T120000
DTSTAMP:20260426T045422
CREATED:20220107T111503Z
LAST-MODIFIED:20220107T111503Z
UID:401-1643443200-1643457600@fv-dellmensingen.de
SUMMARY:Arbeitseinsatz
DESCRIPTION:Vogelsee \nAltwasser
URL:https://fv-dellmensingen.de/event/arbeitseinsatz-2/
LOCATION:Fischerheim Dellmensingen\, Werdensteinstraße 28\, Erbach\, Baden-Württemberg\, 89155\, Deutschland
CATEGORIES:Arbeitseinsatz
ORGANIZER;CN="FV Dellmensingen e.V.":MAILTO:kontakt@fv-dellmensingen.de
END:VEVENT
END:VCALENDAR