BEGIN:VCALENDAR
VERSION:2.0
PRODID:-//Fischereiverein Dellmensingen e.V. - ECPv6.15.20//NONSGML v1.0//EN
CALSCALE:GREGORIAN
METHOD:PUBLISH
X-ORIGINAL-URL:https://fv-dellmensingen.de
X-WR-CALDESC:Veranstaltungen für Fischereiverein Dellmensingen e.V.
REFRESH-INTERVAL;VALUE=DURATION:PT1H
X-Robots-Tag:noindex
X-PUBLISHED-TTL:PT1H
BEGIN:VTIMEZONE
TZID:Europe/Berlin
BEGIN:DAYLIGHT
TZOFFSETFROM:+0100
TZOFFSETTO:+0200
TZNAME:CEST
DTSTART:20240331T010000
END:DAYLIGHT
BEGIN:STANDARD
TZOFFSETFROM:+0200
TZOFFSETTO:+0100
TZNAME:CET
DTSTART:20241027T010000
END:STANDARD
BEGIN:DAYLIGHT
TZOFFSETFROM:+0100
TZOFFSETTO:+0200
TZNAME:CEST
DTSTART:20250330T010000
END:DAYLIGHT
BEGIN:STANDARD
TZOFFSETFROM:+0200
TZOFFSETTO:+0100
TZNAME:CET
DTSTART:20251026T010000
END:STANDARD
BEGIN:DAYLIGHT
TZOFFSETFROM:+0100
TZOFFSETTO:+0200
TZNAME:CEST
DTSTART:20260329T010000
END:DAYLIGHT
BEGIN:STANDARD
TZOFFSETFROM:+0200
TZOFFSETTO:+0100
TZNAME:CET
DTSTART:20261025T010000
END:STANDARD
END:VTIMEZONE
BEGIN:VEVENT
DTSTART;TZID=Europe/Berlin:20250124T190000
DTEND;TZID=Europe/Berlin:20250124T210000
DTSTAMP:20260421T190537
CREATED:20241111T090236Z
LAST-MODIFIED:20241111T090236Z
UID:1251-1737745200-1737752400@fv-dellmensingen.de
SUMMARY:Kartenausgabe 2025
DESCRIPTION:
URL:https://fv-dellmensingen.de/event/kartenausgabe-2025/
CATEGORIES:Kartenausgabe
END:VEVENT
END:VCALENDAR