BEGIN:VCALENDAR
VERSION:2.0
PRODID:-//Fischereiverein Dellmensingen e.V. - ECPv6.15.20//NONSGML v1.0//EN
CALSCALE:GREGORIAN
METHOD:PUBLISH
X-ORIGINAL-URL:https://fv-dellmensingen.de
X-WR-CALDESC:Veranstaltungen für Fischereiverein Dellmensingen e.V.
REFRESH-INTERVAL;VALUE=DURATION:PT1H
X-Robots-Tag:noindex
X-PUBLISHED-TTL:PT1H
BEGIN:VTIMEZONE
TZID:Europe/Berlin
BEGIN:DAYLIGHT
TZOFFSETFROM:+0100
TZOFFSETTO:+0200
TZNAME:CEST
DTSTART:20230326T010000
END:DAYLIGHT
BEGIN:STANDARD
TZOFFSETFROM:+0200
TZOFFSETTO:+0100
TZNAME:CET
DTSTART:20231029T010000
END:STANDARD
BEGIN:DAYLIGHT
TZOFFSETFROM:+0100
TZOFFSETTO:+0200
TZNAME:CEST
DTSTART:20240331T010000
END:DAYLIGHT
BEGIN:STANDARD
TZOFFSETFROM:+0200
TZOFFSETTO:+0100
TZNAME:CET
DTSTART:20241027T010000
END:STANDARD
BEGIN:DAYLIGHT
TZOFFSETFROM:+0100
TZOFFSETTO:+0200
TZNAME:CEST
DTSTART:20250330T010000
END:DAYLIGHT
BEGIN:STANDARD
TZOFFSETFROM:+0200
TZOFFSETTO:+0100
TZNAME:CET
DTSTART:20251026T010000
END:STANDARD
END:VTIMEZONE
BEGIN:VEVENT
DTSTART;TZID=Europe/Berlin:20240315T193000
DTEND;TZID=Europe/Berlin:20240315T193000
DTSTAMP:20260422T115321
CREATED:20240228T073001Z
LAST-MODIFIED:20240228T073001Z
UID:1089-1710531000-1710531000@fv-dellmensingen.de
SUMMARY:Jahreshauptversammlung des Fischereiverein Dellmensingen e. V.
DESCRIPTION:Einladung zur ordentlichen Jahreshauptversammlung des Fischereiverein Dellmensingen e. V.\nam Freitag\, 15.03.2024 um 19:30 Uhr im Fischerheim in Dellmensingen\n(Werdensteinstr. 28\, 89155 Erbach / Dellmensingen). \nTagesordnung: \n1. Begrüßung und Eröffnung der Versammlung \n2. Totengedenken \n3. Grußworte \n4. Bericht der Vorstandschaft \na. Bericht Vorstand \nb. Bericht Schriftführer \nc. Bericht Gewässerwart \nd. Bericht Kassierer \n5. Bericht Kassenprüfer \n6. Entlastung der Vorstandschaft \n7. Wahlen (2. Vorsitzender\, Jugendleiter\, Beisitzer und Kassenprüfer) \n8. Ehrungen \n9. Verschiedenes \nWichtig: Sollen Punkte der Tagesordnung ergänzt werden\, müssen diese mindestens eine Woche vor der Versammlung schriftlich beim Vorstand eingereicht werden\, damit dieser sie noch auf die Tagesordnung setzen kann. \nWir freuen uns auf euer zahlreiches Erscheinen. \nMit kameradschaftlichen Grüßen\, die Vorstandschaft
URL:https://fv-dellmensingen.de/event/jahreshauptversammlung-des-fischereiverein-dellmensingen-e-v/
LOCATION:Fischerheim Dellmensingen\, Werdensteinstraße 28\, Erbach\, Baden-Württemberg\, 89155\, Deutschland
END:VEVENT
END:VCALENDAR