BEGIN:VCALENDAR
VERSION:2.0
PRODID:-//Fischereiverein Dellmensingen e.V. - ECPv6.15.20//NONSGML v1.0//EN
CALSCALE:GREGORIAN
METHOD:PUBLISH
X-ORIGINAL-URL:https://fv-dellmensingen.de
X-WR-CALDESC:Veranstaltungen für Fischereiverein Dellmensingen e.V.
REFRESH-INTERVAL;VALUE=DURATION:PT1H
X-Robots-Tag:noindex
X-PUBLISHED-TTL:PT1H
BEGIN:VTIMEZONE
TZID:Europe/Berlin
BEGIN:DAYLIGHT
TZOFFSETFROM:+0100
TZOFFSETTO:+0200
TZNAME:CEST
DTSTART:20220327T010000
END:DAYLIGHT
BEGIN:STANDARD
TZOFFSETFROM:+0200
TZOFFSETTO:+0100
TZNAME:CET
DTSTART:20221030T010000
END:STANDARD
BEGIN:DAYLIGHT
TZOFFSETFROM:+0100
TZOFFSETTO:+0200
TZNAME:CEST
DTSTART:20230326T010000
END:DAYLIGHT
BEGIN:STANDARD
TZOFFSETFROM:+0200
TZOFFSETTO:+0100
TZNAME:CET
DTSTART:20231029T010000
END:STANDARD
BEGIN:DAYLIGHT
TZOFFSETFROM:+0100
TZOFFSETTO:+0200
TZNAME:CEST
DTSTART:20240331T010000
END:DAYLIGHT
BEGIN:STANDARD
TZOFFSETFROM:+0200
TZOFFSETTO:+0100
TZNAME:CET
DTSTART:20241027T010000
END:STANDARD
END:VTIMEZONE
BEGIN:VEVENT
DTSTART;TZID=Europe/Berlin:20230325T080000
DTEND;TZID=Europe/Berlin:20230325T120000
DTSTAMP:20260423T060040
CREATED:20230320T065817Z
LAST-MODIFIED:20230320T065951Z
UID:873-1679731200-1679745600@fv-dellmensingen.de
SUMMARY:Gewässerputzete
DESCRIPTION:Auch dieses Jahr führen wir wieder unsere Gewässerputzete durch. \nHierfür treffen wir uns am Samstag\, 25.03. um 08:00 Uhr am Fischerheim und verteilen uns dann auf die verschiedenen Gewässer.
URL:https://fv-dellmensingen.de/event/gewaesserputzete-2/
LOCATION:Fischerheim Dellmensingen\, Werdensteinstraße 28\, Erbach\, Baden-Württemberg\, 89155\, Deutschland
CATEGORIES:Arbeitseinsatz
ORGANIZER;CN="FV Dellmensingen e.V.":MAILTO:kontakt@fv-dellmensingen.de
END:VEVENT
BEGIN:VEVENT
DTSTART;TZID=Europe/Berlin:20230325T083000
DTEND;TZID=Europe/Berlin:20230325T174500
DTSTAMP:20260423T060040
CREATED:20230113T073934Z
LAST-MODIFIED:20230313T145246Z
UID:796-1679733000-1679766300@fv-dellmensingen.de
SUMMARY:Vorbereitungslehrgang
DESCRIPTION:1\,0 Std.	Allgemeine Fischkunde\n2\,0 Std.	Spezielle Fischkunde\n2\,0 Std.	Spezielle Fischkunde\n2\,0 Std.	Gewässerökologie
URL:https://fv-dellmensingen.de/event/vorbereitungslehrgang-13/
LOCATION:Fischerheim Dellmensingen\, Werdensteinstraße 28\, Erbach\, Baden-Württemberg\, 89155\, Deutschland
CATEGORIES:Vorbereitungslehrgang
ORGANIZER;CN="FV Dellmensingen e.V.":MAILTO:kontakt@fv-dellmensingen.de
END:VEVENT
END:VCALENDAR