BEGIN:VCALENDAR
VERSION:2.0
PRODID:-//Fischereiverein Dellmensingen e.V. - ECPv6.15.20//NONSGML v1.0//EN
CALSCALE:GREGORIAN
METHOD:PUBLISH
X-WR-CALNAME:Fischereiverein Dellmensingen e.V.
X-ORIGINAL-URL:https://fv-dellmensingen.de
X-WR-CALDESC:Veranstaltungen für Fischereiverein Dellmensingen e.V.
REFRESH-INTERVAL;VALUE=DURATION:PT1H
X-Robots-Tag:noindex
X-PUBLISHED-TTL:PT1H
BEGIN:VTIMEZONE
TZID:Europe/Berlin
BEGIN:DAYLIGHT
TZOFFSETFROM:+0100
TZOFFSETTO:+0200
TZNAME:CEST
DTSTART:20210328T010000
END:DAYLIGHT
BEGIN:STANDARD
TZOFFSETFROM:+0200
TZOFFSETTO:+0100
TZNAME:CET
DTSTART:20211031T010000
END:STANDARD
BEGIN:DAYLIGHT
TZOFFSETFROM:+0100
TZOFFSETTO:+0200
TZNAME:CEST
DTSTART:20220327T010000
END:DAYLIGHT
BEGIN:STANDARD
TZOFFSETFROM:+0200
TZOFFSETTO:+0100
TZNAME:CET
DTSTART:20221030T010000
END:STANDARD
BEGIN:DAYLIGHT
TZOFFSETFROM:+0100
TZOFFSETTO:+0200
TZNAME:CEST
DTSTART:20230326T010000
END:DAYLIGHT
BEGIN:STANDARD
TZOFFSETFROM:+0200
TZOFFSETTO:+0100
TZNAME:CET
DTSTART:20231029T010000
END:STANDARD
END:VTIMEZONE
BEGIN:VEVENT
DTSTART;TZID=Europe/Berlin:20221208T193000
DTEND;TZID=Europe/Berlin:20221208T193000
DTSTAMP:20260425T131929
CREATED:20221010T094855Z
LAST-MODIFIED:20221206T093436Z
UID:695-1670527800-1670527800@fv-dellmensingen.de
SUMMARY:Stammtisch
DESCRIPTION:Liebe Kameraden\, \nwir wollen gerne allen unseren Mitgliedern die Möglichkeit bieten\, neue Kontakte zu knüpfen und bestehende zu vertiefen. \nHierzu werden wir ab sofort jeden zweiten Donnerstag im Monat einen Fischerstammtisch abhalten. \nIn geselliger Runde könnt ihr euch bei Bewirtung mit euren Kameraden austauschen. \nJeder ist willkommen\, ob Neu-Mitglied oder Alter Hase\, ob Jung ob Alt. \nWir freuen uns auf euer kommen\, \nBeginn ist 19:30 Uhr – späterer Einstieg aber natürlich auch jederzeit möglich.
URL:https://fv-dellmensingen.de/event/stammtisch-7/
CATEGORIES:Kameradschaft
ATTACH;FMTTYPE=image/jpeg:https://fv-dellmensingen.de/wp-content/uploads/2021/10/Stammtisch.jpg
ORGANIZER;CN="FV Dellmensingen e.V.":MAILTO:kontakt@fv-dellmensingen.de
END:VEVENT
END:VCALENDAR