BEGIN:VCALENDAR
VERSION:2.0
PRODID:-//Fischereiverein Dellmensingen e.V. - ECPv6.15.20//NONSGML v1.0//EN
CALSCALE:GREGORIAN
METHOD:PUBLISH
X-WR-CALNAME:Fischereiverein Dellmensingen e.V.
X-ORIGINAL-URL:https://fv-dellmensingen.de
X-WR-CALDESC:Veranstaltungen für Fischereiverein Dellmensingen e.V.
REFRESH-INTERVAL;VALUE=DURATION:PT1H
X-Robots-Tag:noindex
X-PUBLISHED-TTL:PT1H
BEGIN:VTIMEZONE
TZID:Europe/Berlin
BEGIN:DAYLIGHT
TZOFFSETFROM:+0100
TZOFFSETTO:+0200
TZNAME:CEST
DTSTART:20210328T010000
END:DAYLIGHT
BEGIN:STANDARD
TZOFFSETFROM:+0200
TZOFFSETTO:+0100
TZNAME:CET
DTSTART:20211031T010000
END:STANDARD
BEGIN:DAYLIGHT
TZOFFSETFROM:+0100
TZOFFSETTO:+0200
TZNAME:CEST
DTSTART:20220327T010000
END:DAYLIGHT
BEGIN:STANDARD
TZOFFSETFROM:+0200
TZOFFSETTO:+0100
TZNAME:CET
DTSTART:20221030T010000
END:STANDARD
BEGIN:DAYLIGHT
TZOFFSETFROM:+0100
TZOFFSETTO:+0200
TZNAME:CEST
DTSTART:20230326T010000
END:DAYLIGHT
BEGIN:STANDARD
TZOFFSETFROM:+0200
TZOFFSETTO:+0100
TZNAME:CET
DTSTART:20231029T010000
END:STANDARD
END:VTIMEZONE
BEGIN:VEVENT
DTSTART;TZID=Europe/Berlin:20220402T083000
DTEND;TZID=Europe/Berlin:20220402T174500
DTSTAMP:20260426T014644
CREATED:20211207T114542Z
LAST-MODIFIED:20211207T114929Z
UID:356-1648888200-1648921500@fv-dellmensingen.de
SUMMARY:Vorbereitungslehrgang
DESCRIPTION:08.30 – 12.00\n1\,0 Std. Allgemeine Fischkunde\n2\,0 Std. Spezielle Fischkunde Mittagspause \n13.00 – 17.45\n2\,0 Std. Spezielle Fischkunde\n2\,0 Std. Gewässerökologie
URL:https://fv-dellmensingen.de/event/allgemeine-fischkunde-spezielle-fischkunde/
LOCATION:Fischerheim Dellmensingen\, Werdensteinstraße 28\, Erbach\, Baden-Württemberg\, 89155\, Deutschland
CATEGORIES:Vorbereitungslehrgang
END:VEVENT
END:VCALENDAR